BEGIN:VCALENDAR
VERSION:2.0
PRODID:-//Die Salvatorisritter – Ritterorden - ECPv6.15.20//NONSGML v1.0//EN
CALSCALE:GREGORIAN
METHOD:PUBLISH
X-WR-CALNAME:Die Salvatorisritter – Ritterorden
X-ORIGINAL-URL:https://ossamr.de
X-WR-CALDESC:Veranstaltungen für Die Salvatorisritter – Ritterorden
REFRESH-INTERVAL;VALUE=DURATION:PT1H
X-Robots-Tag:noindex
X-PUBLISHED-TTL:PT1H
BEGIN:VTIMEZONE
TZID:Europe/Berlin
BEGIN:DAYLIGHT
TZOFFSETFROM:+0100
TZOFFSETTO:+0200
TZNAME:CEST
DTSTART:20200329T010000
END:DAYLIGHT
BEGIN:STANDARD
TZOFFSETFROM:+0200
TZOFFSETTO:+0100
TZNAME:CET
DTSTART:20201025T010000
END:STANDARD
BEGIN:DAYLIGHT
TZOFFSETFROM:+0100
TZOFFSETTO:+0200
TZNAME:CEST
DTSTART:20210328T010000
END:DAYLIGHT
BEGIN:STANDARD
TZOFFSETFROM:+0200
TZOFFSETTO:+0100
TZNAME:CET
DTSTART:20211031T010000
END:STANDARD
BEGIN:DAYLIGHT
TZOFFSETFROM:+0100
TZOFFSETTO:+0200
TZNAME:CEST
DTSTART:20220327T010000
END:DAYLIGHT
BEGIN:STANDARD
TZOFFSETFROM:+0200
TZOFFSETTO:+0100
TZNAME:CET
DTSTART:20221030T010000
END:STANDARD
END:VTIMEZONE
BEGIN:VEVENT
DTSTART;TZID=Europe/Berlin:20210507T100000
DTEND;TZID=Europe/Berlin:20210507T190000
DTSTAMP:20260425T132930
CREATED:20210429T105104Z
LAST-MODIFIED:20210429T105653Z
UID:1615-1620381600-1620414000@ossamr.de
SUMMARY:Monatskapitel (Arbeitsreffen)
DESCRIPTION:07. Mai 2021 \n04. Juni 2021 \n02. Juli 2021 \n06. August 2021
URL:https://ossamr.de/veranstaltung/test/
CATEGORIES:Monatskapitel (Arbeitstreffen)
END:VEVENT
END:VCALENDAR